BEGIN:VCALENDAR
VERSION:2.0
PRODID:-//wp-events-plugin.com//7.2.3.1//EN
TZID:Europe/Brussels
X-WR-TIMEZONE:Europe/Brussels
BEGIN:VEVENT
UID:708@natuurgidsen-klein-brabant.com
DTSTART;TZID=Europe/Brussels:20241016T090000
DTEND;TZID=Europe/Brussels:20241016T110000
DTSTAMP:20240920T060636Z
URL:https://natuurgidsen-klein-brabant.com/events/kleuterwandeling-abdijpa
 rk/
SUMMARY:Kleuterwandeling - abdijpark
DESCRIPTION:&nbsp\;\n\nVan: Hilde Mattheijssens\nAdres: Sint-Amandsesteenwe
 g 256\nSchool: Sint-Bernardus\nTelefoon:\nEmail: hilde.mattheijssens@bern
 ardusschool.be\n\nDatum: 2024-10-16\nGewenste dag: woensdag\nBegin: 09.00\
 nEinde: 11.00\n\n\n\nKlas/leerjaar\nAantal Leerlingen\nLeerkrachten\n\n\n2
 KK\n19\nHelena\n\n\n2KK\n18\nHilde\n\n\n3KK\n27\nEls\n\n\n\nGewenst gebied
 : 12. Abdijpark\nAfspraakpunt:\nBospoort\, langs St.Amandsesteenweg 130\, 
 Bornem\n\nGewenst thema: 5. Kleuterwandeling
CATEGORIES:Gids Cille Blondiau,Gids Lieve Willaert,Gids Tom Van Bel,School
 Wandeling - enkel studenten en leerkrachten,St Bernardus
END:VEVENT
BEGIN:VTIMEZONE
TZID:Europe/Brussels
X-LIC-LOCATION:Europe/Brussels
BEGIN:DAYLIGHT
DTSTART:20240331T030000
TZOFFSETFROM:+0100
TZOFFSETTO:+0200
TZNAME:CEST
END:DAYLIGHT
END:VTIMEZONE
END:VCALENDAR