BEGIN:VCALENDAR
VERSION:2.0
PRODID:-//wp-events-plugin.com//7.2.3.1//EN
TZID:Europe/Brussels
X-WR-TIMEZONE:Europe/Brussels
BEGIN:VEVENT
UID:573@natuurgidsen-klein-brabant.com
DTSTART;TZID=Europe/Brussels:20231023T133000
DTEND;TZID=Europe/Brussels:20231023T150000
DTSTAMP:20231015T060623Z
URL:https://natuurgidsen-klein-brabant.com/events/kleuterwandeling-abdijpa
 rk-2/
SUMMARY:Kleuterwandeling - Abdijpark
DESCRIPTION:Van: Liesbeth caluwaerts\nAdres: Bareldreef 98 2880 Bornem\nSch
 ool: Freinetschool ‘t hinkelpad\nTelefoon: 0479302627\nEmail: liesbeth.
 caluwaerts@hinkelpad.be\n\nDatum: 2023-10-23\nBegin: 13:30\nEinde: 15:00\n
 \n\n\nKlas/leerjaar\nAantal Leerlingen\nLeerkrachten\n\n\n3de kleuterklas\
 n20\nLiesbeth caluwaerts\n\n\n\nGewenst gebied: 12. Abdijpark\nAfspraakpun
 t:\nBospoort\, langs St.Amandsesteenweg 130\, Bornem\n\nGewenst thema: 5. 
 Kleuterwandeling\n\n&nbsp\;
CATEGORIES:' t Hinkelpad,Gids Lieve Willaert,School Wandeling - enkel
 studenten en leerkrachten
END:VEVENT
BEGIN:VTIMEZONE
TZID:Europe/Brussels
X-LIC-LOCATION:Europe/Brussels
BEGIN:DAYLIGHT
DTSTART:20230326T030000
TZOFFSETFROM:+0100
TZOFFSETTO:+0200
TZNAME:CEST
END:DAYLIGHT
END:VTIMEZONE
END:VCALENDAR