BEGIN:VCALENDAR
VERSION:2.0
PRODID:-//wp-events-plugin.com//7.2.3.1//EN
TZID:Europe/Brussels
X-WR-TIMEZONE:Europe/Brussels
BEGIN:VEVENT
UID:39@natuurgidsen-klein-brabant.com
DTSTART;TZID=Europe/Brussels:20200421T140000
DTEND;TZID=Europe/Brussels:20200421T160000
DTSTAMP:20200410T075239Z
URL:https://natuurgidsen-klein-brabant.com/events/kinderwandeling/
SUMMARY:** afgelast ** Kinderwandeling
DESCRIPTION:
CATEGORIES:Afgelast,Gids Lieve Willaert,School Wandeling - enkel studenten
 en leerkrachten
LOCATION:T  8: Luipegem & Nonnebos\, Luipegem\, Bornem\, Antwerpen\, 2880\,
  België
GEO:51.092787;4.215700
X-APPLE-STRUCTURED-LOCATION;VALUE=URI;X-ADDRESS=Luipegem\, Bornem\, Antwerp
 en\, 2880\, België;X-APPLE-RADIUS=100;X-TITLE=T  8: Luipegem & Nonnebos:g
 eo:51.092787,4.215700
END:VEVENT
BEGIN:VTIMEZONE
TZID:Europe/Brussels
X-LIC-LOCATION:Europe/Brussels
BEGIN:DAYLIGHT
DTSTART:20200329T030000
TZOFFSETFROM:+0100
TZOFFSETTO:+0200
TZNAME:CEST
END:DAYLIGHT
END:VTIMEZONE
END:VCALENDAR