BEGIN:VCALENDAR
VERSION:2.0
PRODID:-//wp-events-plugin.com//7.2.3.1//EN
TZID:Europe/Brussels
X-WR-TIMEZONE:Europe/Brussels
BEGIN:VEVENT
UID:385@natuurgidsen-klein-brabant.com
DTSTART;TZID=Europe/Brussels:20221024T133000
DTEND;TZID=Europe/Brussels:20221024T150000
DTSTAMP:20220927T074756Z
URL:https://natuurgidsen-klein-brabant.com/events/het-bos-twinkelveld-hof-
 van-coolhem/
SUMMARY:Het bos - Twinkelveld - Hof van Coolhem
DESCRIPTION:\n\n&nbsp\;\nWe zijn het 3e en 4de leerjaar van Kalfort.\n3de: 
 28 leerlingen + 2 juffen\n4de: 19 leerlingen + 1 juf\n3 gidsen graag\n\n
 In ons WO- boekje spitsen we ons vooral op de verschillende lagen van het 
 bos\, de opruimers\, dieren in het bos en de vruchten.\n\n\n2) het bos : 
 \n\n– delen van de boom\n\n– fotosynthese\n\n– boomsoorten herkenn
 en\n\n– boomvruchten\n\n– lagen van het bos\n\n– dood hout doet leve
 n\n\n– open plekken in het bos\n\n– bosbewoners\n\n– opruimers in he
 t bos\n\n– het voedselweb\n\n– het nut van planten en dieren\n\nVooral
  de vette stukjes sluiten aan bij onze WO- methode :-) \n\n&nbsp\;\n\n\n
CATEGORIES:Gids Cille Blondiau,Gids Rudi Van Duyse,Gids Sonia De
 Keyzer,School Wandeling - enkel studenten en leerkrachten
LOCATION:T14: Hof van Coolhem\, Coolhemdreef\, Puurs\, Antwerpen\, 2880\, B
 elgië
GEO:51.073172;4.306084
X-APPLE-STRUCTURED-LOCATION;VALUE=URI;X-ADDRESS=Coolhemdreef\, Puurs\, Antw
 erpen\, 2880\, België;X-APPLE-RADIUS=100;X-TITLE=T14: Hof van Coolhem:geo
 :51.073172,4.306084
END:VEVENT
BEGIN:VTIMEZONE
TZID:Europe/Brussels
X-LIC-LOCATION:Europe/Brussels
BEGIN:DAYLIGHT
DTSTART:20220327T030000
TZOFFSETFROM:+0100
TZOFFSETTO:+0200
TZNAME:CEST
END:DAYLIGHT
END:VTIMEZONE
END:VCALENDAR