BEGIN:VCALENDAR
VERSION:2.0
PRODID:-//wp-events-plugin.com//7.2.3.1//EN
TZID:Europe/Brussels
X-WR-TIMEZONE:Europe/Brussels
BEGIN:VEVENT
UID:241@natuurgidsen-klein-brabant.com
DTSTART;TZID=Europe/Brussels:20220311T130000
DTEND;TZID=Europe/Brussels:20220311T150000
DTSTAMP:20210924T042043Z
URL:https://natuurgidsen-klein-brabant.com/events/het-bos-lippelo-bos-vbs-
 liezele/
SUMMARY:Het bos - Lippelo bos- VBS Liezele
DESCRIPTION:3de graad:  Juf Annelies en Juf Hanne 22 lln.\n\nfotosynthese
CATEGORIES:Gids Pieter De Bruyn,School Wandeling - enkel studenten en
 leerkrachten
END:VEVENT
BEGIN:VTIMEZONE
TZID:Europe/Brussels
X-LIC-LOCATION:Europe/Brussels
BEGIN:STANDARD
DTSTART:20211031T020000
TZOFFSETFROM:+0200
TZOFFSETTO:+0100
TZNAME:CET
END:STANDARD
END:VTIMEZONE
END:VCALENDAR