BEGIN:VCALENDAR
VERSION:2.0
PRODID:-//wp-events-plugin.com//7.2.3.1//EN
TZID:Europe/Brussels
X-WR-TIMEZONE:Europe/Brussels
BEGIN:VEVENT
UID:224@natuurgidsen-klein-brabant.com
DTSTART;TZID=Europe/Brussels:20211015T104500
DTEND;TZID=Europe/Brussels:20211015T121500
DTSTAMP:20211007T144744Z
URL:https://natuurgidsen-klein-brabant.com/events/het-bos-hof-van-coolhem-
 de-zonnebloem/
SUMMARY:Het bos -  Hof van Coolhem - De Zonnebloem
DESCRIPTION:2de Lj: Juf Caro en Juf Gisèle\n\n&nbsp\;
CATEGORIES:Gids Marleen Borms,Gids Vonny Spiessens,School Wandeling -
 enkel studenten en leerkrachten
END:VEVENT
BEGIN:VTIMEZONE
TZID:Europe/Brussels
X-LIC-LOCATION:Europe/Brussels
BEGIN:DAYLIGHT
DTSTART:20210328T030000
TZOFFSETFROM:+0100
TZOFFSETTO:+0200
TZNAME:CEST
END:DAYLIGHT
END:VTIMEZONE
END:VCALENDAR