BEGIN:VCALENDAR
VERSION:2.0
PRODID:-//wp-events-plugin.com//7.2.3.1//EN
TZID:Europe/Brussels
X-WR-TIMEZONE:Europe/Brussels
BEGIN:VEVENT
UID:137@natuurgidsen-klein-brabant.com
DTSTART;TZID=Europe/Brussels:20201006T131500
DTEND;TZID=Europe/Brussels:20201006T151500
DTSTAMP:20201006T085744Z
URL:https://natuurgidsen-klein-brabant.com/events/herst-spel-olvp-in-abdij
 park/
SUMMARY:Herst & Spel / OLVP in Abdijpark
DESCRIPTION:\n\n\ndi\n6-okt.\n13u15- 15u15\nabdijpark\nOLVP\n1ste leerj\nHe
 rfst/spel\nFrans/lieve/ cille\n\n\n
CATEGORIES:Gids Cille Blondiau,Gids Frans Hermans,Gids Lieve
 Willaert,School Wandeling - enkel studenten en leerkrachten
LOCATION:T 9: Bornem Grote Heide Abdij\, Kloosterstraat 18\, Bornem\, Antwe
 rpen\, 2880\, België
GEO:51.096157;4.230567
X-APPLE-STRUCTURED-LOCATION;VALUE=URI;X-ADDRESS=Kloosterstraat 18\, Bornem\
 , Antwerpen\, 2880\, België;X-APPLE-RADIUS=100;X-TITLE=T 9: Bornem Grote 
 Heide Abdij:geo:51.096157,4.230567
END:VEVENT
BEGIN:VTIMEZONE
TZID:Europe/Brussels
X-LIC-LOCATION:Europe/Brussels
BEGIN:DAYLIGHT
DTSTART:20200329T030000
TZOFFSETFROM:+0100
TZOFFSETTO:+0200
TZNAME:CEST
END:DAYLIGHT
END:VTIMEZONE
END:VCALENDAR