BEGIN:VCALENDAR
VERSION:2.0
PRODID:-//wp-events-plugin.com//7.2.3.1//EN
TZID:Europe/Brussels
X-WR-TIMEZONE:Europe/Brussels
BEGIN:VEVENT
UID:144@natuurgidsen-klein-brabant.com
DTSTART;TZID=Europe/Brussels:20201020T130000
DTEND;TZID=Europe/Brussels:20201020T153000
DTSTAMP:20201006T091321Z
URL:https://natuurgidsen-klein-brabant.com/events/herkennen-van-planten-de
 -schorre-sint-amands/
SUMMARY:Herkennen van planten / De Schorre Sint-Amands
DESCRIPTION:\n\n\ndi\n20-okt.\n1300\nhof van Coolhem\nDe schorre Sint Amand
 s/ Nele\n1 en 2de lj\nherkennen van planten en...\nVonny+Lieve\n\n\n
CATEGORIES:Gids Lieve Willaert,Gids Vonny Spiessens,School Wandeling -
 enkel studenten en leerkrachten
LOCATION:T14: Hof van Coolhem\, Coolhemdreef\, Puurs\, Antwerpen\, 2880\, B
 elgië
GEO:51.073172;4.306084
X-APPLE-STRUCTURED-LOCATION;VALUE=URI;X-ADDRESS=Coolhemdreef\, Puurs\, Antw
 erpen\, 2880\, België;X-APPLE-RADIUS=100;X-TITLE=T14: Hof van Coolhem:geo
 :51.073172,4.306084
END:VEVENT
BEGIN:VTIMEZONE
TZID:Europe/Brussels
X-LIC-LOCATION:Europe/Brussels
BEGIN:DAYLIGHT
DTSTART:20200329T030000
TZOFFSETFROM:+0100
TZOFFSETTO:+0200
TZNAME:CEST
END:DAYLIGHT
END:VTIMEZONE
END:VCALENDAR