BEGIN:VCALENDAR
VERSION:2.0
PRODID:-//wp-events-plugin.com//7.2.3.1//EN
TZID:Europe/Brussels
X-WR-TIMEZONE:Europe/Brussels
BEGIN:VEVENT
UID:141@natuurgidsen-klein-brabant.com
DTSTART;TZID=Europe/Brussels:20201016T110000
DTEND;TZID=Europe/Brussels:20201016T123000
DTSTAMP:20201006T090611Z
URL:https://natuurgidsen-klein-brabant.com/events/herfstwandeling-zonneblo
 em/
SUMMARY:Herfstwandeling / Zonnebloem
DESCRIPTION:\n\n\nvrijd\n16/10\n11u00-12u30\nhof van Coolhem\nvbs Zonnebloe
 m Sint-Amands\n2delj\nDe Herfst\nMarleen/rudi\n\n\n
CATEGORIES:Gids Marleen Borms,Gids Rudi Van Duyse,School Wandeling - enkel
 studenten en leerkrachten
LOCATION:T14: Hof van Coolhem\, Coolhemdreef\, Puurs\, Antwerpen\, 2880\, B
 elgië
GEO:51.073172;4.306084
X-APPLE-STRUCTURED-LOCATION;VALUE=URI;X-ADDRESS=Coolhemdreef\, Puurs\, Antw
 erpen\, 2880\, België;X-APPLE-RADIUS=100;X-TITLE=T14: Hof van Coolhem:geo
 :51.073172,4.306084
END:VEVENT
BEGIN:VTIMEZONE
TZID:Europe/Brussels
X-LIC-LOCATION:Europe/Brussels
BEGIN:DAYLIGHT
DTSTART:20200329T030000
TZOFFSETFROM:+0100
TZOFFSETTO:+0200
TZNAME:CEST
END:DAYLIGHT
END:VTIMEZONE
END:VCALENDAR