BEGIN:VCALENDAR
VERSION:2.0
PRODID:-//wp-events-plugin.com//7.2.3.1//EN
TZID:Europe/Brussels
X-WR-TIMEZONE:Europe/Brussels
BEGIN:VEVENT
UID:213@natuurgidsen-klein-brabant.com
DTSTART;TZID=Europe/Brussels:20211021T100000
DTEND;TZID=Europe/Brussels:20211021T120000
DTSTAMP:20210916T202127Z
URL:https://natuurgidsen-klein-brabant.com/events/herfst-zintuigen-de-scho
 rre-sint-amands/
SUMMARY:Herfst - Hof van Coolhem-  De Schorre
DESCRIPTION:5 de Lj Juf Liesa ( 13 lln) en 6de LJ (17 lln)\n\n&nbsp\;\n\nth
 ema's:\n\n 	respect voor de natuur\n 	natuur beleven met de zintuigen\n 	b
 laderen/vruchten / bomen\n\n&nbsp\;
CATEGORIES:Gids Frans Hermans,Gids Sonia De Keyzer,School Wandeling -
 enkel studenten en leerkrachten
LOCATION:T14: Hof van Coolhem\, Coolhemdreef\, Puurs\, Antwerpen\, 2880\, B
 elgië
GEO:51.073172;4.306084
X-APPLE-STRUCTURED-LOCATION;VALUE=URI;X-ADDRESS=Coolhemdreef\, Puurs\, Antw
 erpen\, 2880\, België;X-APPLE-RADIUS=100;X-TITLE=T14: Hof van Coolhem:geo
 :51.073172,4.306084
END:VEVENT
BEGIN:VTIMEZONE
TZID:Europe/Brussels
X-LIC-LOCATION:Europe/Brussels
BEGIN:DAYLIGHT
DTSTART:20210328T030000
TZOFFSETFROM:+0100
TZOFFSETTO:+0200
TZNAME:CEST
END:DAYLIGHT
END:VTIMEZONE
END:VCALENDAR