BEGIN:VCALENDAR
VERSION:2.0
PRODID:-//wp-events-plugin.com//7.2.3.1//EN
TZID:Europe/Brussels
X-WR-TIMEZONE:Europe/Brussels
BEGIN:VEVENT
UID:215@natuurgidsen-klein-brabant.com
DTSTART;TZID=Europe/Brussels:20211028T133000
DTEND;TZID=Europe/Brussels:20211028T150000
DTSTAMP:20211012T172757Z
URL:https://natuurgidsen-klein-brabant.com/events/herfst-st-bernardusschoo
 l-graafschap/
SUMMARY:Herfst -  De Notelaer - Sint Bernardusschool
DESCRIPTION:2de leerjaar: Juf Marie: 27 lln\n\nthema’s :  Paddenstoelen\
 , Vruchten\, Herfstkleuren\, Gedrag van dieren\, herkenning soorten
CATEGORIES:Gids Lieve Willaert,Gids Pieter De Bruyn,School Wandeling -
 enkel studenten en leerkrachten
END:VEVENT
BEGIN:VTIMEZONE
TZID:Europe/Brussels
X-LIC-LOCATION:Europe/Brussels
BEGIN:DAYLIGHT
DTSTART:20210328T030000
TZOFFSETFROM:+0100
TZOFFSETTO:+0200
TZNAME:CEST
END:DAYLIGHT
END:VTIMEZONE
END:VCALENDAR