BEGIN:VCALENDAR
VERSION:2.0
PRODID:-//wp-events-plugin.com//7.2.3.1//EN
TZID:Europe/Brussels
X-WR-TIMEZONE:Europe/Brussels
BEGIN:VEVENT
UID:222@natuurgidsen-klein-brabant.com
DTSTART;TZID=Europe/Brussels:20211014T130000
DTEND;TZID=Europe/Brussels:20211014T151500
DTSTAMP:20210924T034703Z
URL:https://natuurgidsen-klein-brabant.com/events/herfst-sint-bernardussch
 ool-nonnenbos/
SUMMARY:Herfst -  Nonnenbos -  Sint Bernardusschool
DESCRIPTION:1ste Lj : Juf Bernadette/Sarah en Juf Anne
CATEGORIES:Gids Frans Hermans,Gids Lieve Willaert,School Wandeling - enkel
 studenten en leerkrachten
END:VEVENT
BEGIN:VTIMEZONE
TZID:Europe/Brussels
X-LIC-LOCATION:Europe/Brussels
BEGIN:DAYLIGHT
DTSTART:20210328T030000
TZOFFSETFROM:+0100
TZOFFSETTO:+0200
TZNAME:CEST
END:DAYLIGHT
END:VTIMEZONE
END:VCALENDAR