BEGIN:VCALENDAR
VERSION:2.0
PRODID:-//wp-events-plugin.com//7.2.3.1//EN
TZID:Europe/Brussels
X-WR-TIMEZONE:Europe/Brussels
BEGIN:VEVENT
UID:725@natuurgidsen-klein-brabant.com
DTSTART;TZID=Europe/Brussels:20241105T130000
DTEND;TZID=Europe/Brussels:20241105T150000
DTSTAMP:20241013T195037Z
URL:https://natuurgidsen-klein-brabant.com/events/herfst-park-d-ursel/
SUMMARY:Herfst - park d' Ursel
DESCRIPTION:5de Lj
CATEGORIES:Gids Vonny Spiessens,Huveneersschool Wintam,School Wandeling -
 enkel studenten en leerkrachten
END:VEVENT
BEGIN:VTIMEZONE
TZID:Europe/Brussels
X-LIC-LOCATION:Europe/Brussels
BEGIN:STANDARD
DTSTART:20241027T020000
TZOFFSETFROM:+0200
TZOFFSETTO:+0100
TZNAME:CET
END:STANDARD
END:VTIMEZONE
END:VCALENDAR