BEGIN:VCALENDAR
VERSION:2.0
PRODID:-//wp-events-plugin.com//7.2.3.1//EN
TZID:Europe/Brussels
X-WR-TIMEZONE:Europe/Brussels
BEGIN:VEVENT
UID:218@natuurgidsen-klein-brabant.com
DTSTART;TZID=Europe/Brussels:20210928T131500
DTEND;TZID=Europe/Brussels:20210928T144500
DTSTAMP:20210927T200316Z
URL:https://natuurgidsen-klein-brabant.com/events/herfst-olvp-abdijpark/
SUMMARY:Herfst -  Abdijpark - Olvp
DESCRIPTION:Olvp: 1ste LJ Juf Muriëlle- Annika /Leila -Lynn\n\n&nbsp\;\n\n
 &nbsp\;
CATEGORIES:Gids Frans Hermans,Gids Lieve Willaert,School Wandeling - enkel
 studenten en leerkrachten
END:VEVENT
BEGIN:VTIMEZONE
TZID:Europe/Brussels
X-LIC-LOCATION:Europe/Brussels
BEGIN:DAYLIGHT
DTSTART:20210328T030000
TZOFFSETFROM:+0100
TZOFFSETTO:+0200
TZNAME:CEST
END:DAYLIGHT
END:VTIMEZONE
END:VCALENDAR