BEGIN:VCALENDAR
VERSION:2.0
PRODID:-//wp-events-plugin.com//7.2.3.1//EN
TZID:Europe/Brussels
X-WR-TIMEZONE:Europe/Brussels
BEGIN:VEVENT
UID:244@natuurgidsen-klein-brabant.com
DTSTART;TZID=Europe/Brussels:20211025T131500
DTEND;TZID=Europe/Brussels:20211025T153500
DTSTAMP:20210928T194109Z
URL:https://natuurgidsen-klein-brabant.com/events/herfst-mariekerke-en-omg
 eving-de-kinderplaneet/
SUMMARY:Herfst - Mariekerke en omgeving - De Kinderplaneet
DESCRIPTION:3de en 4de Lj  Mr Manus  27lln\n\n&nbsp\;\n\nPaddenstoelen\, 
 Vruchten\, Herfstkleuren\, voorbereiding Winter\, Gedrag van dieren\, Herk
 enning soorten\, Gebruik van zintuigen\n\neigen schoolomgeving - rijkdom v
 an hun leefomgeving.
CATEGORIES:Gids Cille Blondiau,Gids Lieve Willaert,School Wandeling -
 enkel studenten en leerkrachten
END:VEVENT
BEGIN:VTIMEZONE
TZID:Europe/Brussels
X-LIC-LOCATION:Europe/Brussels
BEGIN:DAYLIGHT
DTSTART:20210328T030000
TZOFFSETFROM:+0100
TZOFFSETTO:+0200
TZNAME:CEST
END:DAYLIGHT
END:VTIMEZONE
END:VCALENDAR