BEGIN:VCALENDAR
VERSION:2.0
PRODID:-//wp-events-plugin.com//7.2.3.1//EN
TZID:Europe/Brussels
X-WR-TIMEZONE:Europe/Brussels
BEGIN:VEVENT
UID:252@natuurgidsen-klein-brabant.com
DTSTART;TZID=Europe/Brussels:20211119T090000
DTEND;TZID=Europe/Brussels:20211119T113000
DTSTAMP:20211026T115641Z
URL:https://natuurgidsen-klein-brabant.com/events/herfst-kleiputten-terhag
 en-olvi/
SUMMARY:Herfst - kleiputten Terhagen - Olvi
DESCRIPTION:5de Lj : Juf Kirsten 23lln. en Juf Katrin 23 lln.\n\nAfspraak i
 ngang de Beukelaer.\n\nThema: herfst en paddenstoelen
CATEGORIES:Gids Frans Hermans,Gids Sonia De Keyzer,School Wandeling -
 enkel studenten en leerkrachten
END:VEVENT
BEGIN:VTIMEZONE
TZID:Europe/Brussels
X-LIC-LOCATION:Europe/Brussels
BEGIN:STANDARD
DTSTART:20211031T020000
TZOFFSETFROM:+0200
TZOFFSETTO:+0100
TZNAME:CET
END:STANDARD
END:VTIMEZONE
END:VCALENDAR