BEGIN:VCALENDAR
VERSION:2.0
PRODID:-//wp-events-plugin.com//7.2.3.1//EN
TZID:Europe/Brussels
X-WR-TIMEZONE:Europe/Brussels
BEGIN:VEVENT
UID:368@natuurgidsen-klein-brabant.com
DTSTART;TZID=Europe/Brussels:20221013T090000
DTEND;TZID=Europe/Brussels:20221013T120000
DTSTAMP:20220913T151357Z
URL:https://natuurgidsen-klein-brabant.com/events/herfst-hot-ter-zielbeek-
 de-krinkel/
SUMMARY:Herfst - Hof ter Zielbeek - De krinkel
DESCRIPTION:Van: Saskia Peeters\nSchool: VBS De Krinkel\nTelefoon:\nEmail:
  saskia.peeters@dekrinkelschool.be\n\nDatum: 2022-10-13\nBegin: 9u\nEinde
 : 12u\n\n&nbsp\;\n\n\n\nKlas/leerjaar\nAantal Leerlingen\nLeerkrachten\n\n
 \n\n\n\n2a\n22\nSaskia Peeters\n\n\n\n\n\n2b\n23\nKaren Peeters\n\n\n\n\n\
 n\n&nbsp\;\n\nGewenst gebied: 17. Hof ter Zielbeek\nAfspraakpunt:\nIngang 
 Lourdesgrot\, Kaardijkstraat 51\, Ruisbroek\n\nGewenst thema: 1. Herfst
CATEGORIES:Gids Cille Blondiau,Gids Sonia De Keyzer,School Wandeling -
 enkel studenten en leerkrachten
END:VEVENT
BEGIN:VTIMEZONE
TZID:Europe/Brussels
X-LIC-LOCATION:Europe/Brussels
BEGIN:DAYLIGHT
DTSTART:20220327T030000
TZOFFSETFROM:+0100
TZOFFSETTO:+0200
TZNAME:CEST
END:DAYLIGHT
END:VTIMEZONE
END:VCALENDAR