BEGIN:VCALENDAR
VERSION:2.0
PRODID:-//wp-events-plugin.com//7.2.3.1//EN
TZID:Europe/Brussels
X-WR-TIMEZONE:Europe/Brussels
BEGIN:VEVENT
UID:878@natuurgidsen-klein-brabant.com
DTSTART;TZID=Europe/Brussels:20251106T133000
DTEND;TZID=Europe/Brussels:20251106T144500
DTSTAMP:20251001T140524Z
URL:https://natuurgidsen-klein-brabant.com/events/herfst-hof-van-coolhem-2
 0/
SUMMARY:Herfst - Hof van Coolhem
DESCRIPTION:Van: Christel Brabant\nAdres: Kleine Amer 20 Puurs – St Amand
 s\nSchool: De Wissel\nTelefoon: 03 897 95 85\nEmail: brabant_christel@hot
 mail.com\n\nDatum: 2025-11-06\nGewenste dag: Donderdag\nBegin: 13:30\nEind
 e: 14:45\n\n\n\nKlas/leerjaar\nAantal Leerlingen\nLeerkrachten\n\n\n3\n14\
 nJuf Christel\n\n\n4\n8\nJuf Paulien\n\n\n\nGewenst gebied: 18. Hof van Co
 olhem\nAfspraakpunt:\nIngangspoort\, Coolhemstraat 64\, Kalfort\n\nGewenst
  thema: 1. Herfst
CATEGORIES:De Wissel,Gids Sonia De Keyzer,Gids Vonny Spiessens,School
 Wandeling - enkel studenten en leerkrachten
END:VEVENT
BEGIN:VTIMEZONE
TZID:Europe/Brussels
X-LIC-LOCATION:Europe/Brussels
BEGIN:STANDARD
DTSTART:20251026T020000
TZOFFSETFROM:+0200
TZOFFSETTO:+0100
TZNAME:CET
END:STANDARD
END:VTIMEZONE
END:VCALENDAR