BEGIN:VCALENDAR
VERSION:2.0
PRODID:-//wp-events-plugin.com//7.2.3.1//EN
TZID:Europe/Brussels
X-WR-TIMEZONE:Europe/Brussels
BEGIN:VEVENT
UID:839@natuurgidsen-klein-brabant.com
DTSTART;TZID=Europe/Brussels:20251010T092500
DTEND;TZID=Europe/Brussels:20251010T113000
DTSTAMP:20250912T180209Z
URL:https://natuurgidsen-klein-brabant.com/events/herfst-hof-van-coolhem-1
 6/
SUMMARY:Herfst - Hof van Coolhem
DESCRIPTION:Van: Hilde De Cat\nAdres: Kleine Amer\nSchool: De wissel\nTelef
 oon:\nEmail: hilde.decat@bubaodewissel.be\n\nDatum: 2025-10-10\nGewenste 
 dag: Vrijdag\nBegin: 09:25\nEinde: 11:30\n\n\n\nKlas/leerjaar\nAantal Leer
 lingen\nLeerkrachten\n\n\nwoppies bubao\n9\nHilde en Els\n\n\n\nGewenst ge
 bied: 18. Hof van Coolhem\nAfspraakpunt:\nIngangspoort\, Coolhemstraat 64\
 , Kalfort\n\nGewenst thema: 1. Herfst
CATEGORIES:De Wissel,Gids Lieve Willaert,School Wandeling - enkel
 studenten en leerkrachten
END:VEVENT
BEGIN:VTIMEZONE
TZID:Europe/Brussels
X-LIC-LOCATION:Europe/Brussels
BEGIN:DAYLIGHT
DTSTART:20250330T030000
TZOFFSETFROM:+0100
TZOFFSETTO:+0200
TZNAME:CEST
END:DAYLIGHT
END:VTIMEZONE
END:VCALENDAR