BEGIN:VCALENDAR
VERSION:2.0
PRODID:-//wp-events-plugin.com//7.2.3.1//EN
TZID:Europe/Brussels
X-WR-TIMEZONE:Europe/Brussels
BEGIN:VEVENT
UID:726@natuurgidsen-klein-brabant.com
DTSTART;TZID=Europe/Brussels:20241021T133000
DTEND;TZID=Europe/Brussels:20241021T150000
DTSTAMP:20241015T091551Z
URL:https://natuurgidsen-klein-brabant.com/events/herfst-hof-van-coolhem-1
 2/
SUMMARY:Herfst - Hof van Coolhem
DESCRIPTION:Van: VEERLE STEVENS\nAdres: kleine Hamer 20 \, Puurs\nSchool: d
 e wissel\nTelefoon:\nEmail: veerlestevens@skynet.be\n\nDatum: 2024-10-21\
 nGewenste dag: maandag\nBegin: 13.30\nEinde: 15.00\n\n\n\nKlas/leerjaar\nA
 antal Leerlingen\nLeerkrachten\n\n\n9b\n8\nveerle\n\n\n\nGewenst gebied: 1
 8. Hof van Coolhem\nAfspraakpunt:\nIngangspoort\, Coolhemstraat 64\, Kalfo
 rt
CATEGORIES:De Wissel,Gids Vonny Spiessens,School Wandeling - enkel
 studenten en leerkrachten
END:VEVENT
BEGIN:VTIMEZONE
TZID:Europe/Brussels
X-LIC-LOCATION:Europe/Brussels
BEGIN:DAYLIGHT
DTSTART:20240331T030000
TZOFFSETFROM:+0100
TZOFFSETTO:+0200
TZNAME:CEST
END:DAYLIGHT
END:VTIMEZONE
END:VCALENDAR