BEGIN:VCALENDAR
VERSION:2.0
PRODID:-//wp-events-plugin.com//7.2.3.1//EN
TZID:Europe/Brussels
X-WR-TIMEZONE:Europe/Brussels
BEGIN:VEVENT
UID:714@natuurgidsen-klein-brabant.com
DTSTART;TZID=Europe/Brussels:20241112T133000
DTEND;TZID=Europe/Brussels:20241112T143000
DTSTAMP:20241021T111036Z
URL:https://natuurgidsen-klein-brabant.com/events/herfst-hof-van-coolhem-1
 0/
SUMMARY:herfst - Hof van Coolhem
DESCRIPTION:&nbsp\;\n\nVan: Brabant Christel\nAdres: Kleine Amer 20. 2870 P
 uurs\nSchool: BuBaO De Wissel\nTelefoon:\nEmail: brabant_christel@hotmail
 .com\n\nDatum: 2024-11-12\nGewenste dag: Dinsdag\nBegin: 13:30\nEinde: 14:
 30\n\n\n\nKlas/leerjaar\nAantal Leerlingen\nLeerkrachten\n\n\nBa-3. 1ste l
 j\n14\nJuf Paulien\n\n\nBa-4 1ste lj.\n10\nJuf Christel\n\n\n\nGewenst geb
 ied: 18. Hof van Coolhem\nAfspraakpunt:\nIngangspoort\, Coolhemstraat 64\,
  Kalfort\n\nGewenst thema: 1. Herfst
CATEGORIES:De Wissel,Gids Cille Blondiau,Gids Vonny Spiessens,School
 Wandeling - enkel studenten en leerkrachten
END:VEVENT
BEGIN:VTIMEZONE
TZID:Europe/Brussels
X-LIC-LOCATION:Europe/Brussels
BEGIN:STANDARD
DTSTART:20241027T020000
TZOFFSETFROM:+0200
TZOFFSETTO:+0100
TZNAME:CET
END:STANDARD
END:VTIMEZONE
END:VCALENDAR