BEGIN:VCALENDAR
VERSION:2.0
PRODID:-//wp-events-plugin.com//7.2.3.1//EN
TZID:Europe/Brussels
X-WR-TIMEZONE:Europe/Brussels
BEGIN:VEVENT
UID:548@natuurgidsen-klein-brabant.com
DTSTART;TZID=Europe/Brussels:20231017T133500
DTEND;TZID=Europe/Brussels:20231017T150000
DTSTAMP:20230917T171332Z
URL:https://natuurgidsen-klein-brabant.com/events/herfst-hof-van-coolem/
SUMMARY:Herfst - Hof van Coolhem
DESCRIPTION:&nbsp\;\n\nVan: Ann Peeters\nAdres: Winkelveld 1\nSchool: Lager
 e school Twinkelveld\nTelefoon:\nEmail: ann.peeters@twinkelveld.be\n\nDat
 um: 2023-10-17\nBegin: 13h35\nEinde: Ten laatste 15h\n\n\n\nKlas/leerjaar\
 nAantal Leerlingen\nLeerkrachten\n\n\n1\n15\nAnn Peeters\n\n\n1\n15\nKim D
 e Leeuw\n\n\n\nGewenst gebied: 18. Hof van Coolhem\nAfspraakpunt:\nIngangs
 poort\, Coolhemstraat 64\, Kalfort\n\nGewenst thema: 1. Herfst
CATEGORIES:Gids Lieve Willaert,Gids Sonia De Keyzer,School Wandeling -
 enkel studenten en leerkrachten,Twinkelveld
END:VEVENT
BEGIN:VTIMEZONE
TZID:Europe/Brussels
X-LIC-LOCATION:Europe/Brussels
BEGIN:DAYLIGHT
DTSTART:20230326T030000
TZOFFSETFROM:+0100
TZOFFSETTO:+0200
TZNAME:CEST
END:DAYLIGHT
END:VTIMEZONE
END:VCALENDAR