BEGIN:VCALENDAR
VERSION:2.0
PRODID:-//wp-events-plugin.com//7.2.3.1//EN
TZID:Europe/Brussels
X-WR-TIMEZONE:Europe/Brussels
BEGIN:VEVENT
UID:835@natuurgidsen-klein-brabant.com
DTSTART;TZID=Europe/Brussels:20251002T093000
DTEND;TZID=Europe/Brussels:20251002T113000
DTSTAMP:20250911T075656Z
URL:https://natuurgidsen-klein-brabant.com/events/herfst-breeven-4/
SUMMARY:Herfst - Breeven
DESCRIPTION:\n\n\n\n\nVan: Lien Van Breedam\n\n\n\n\n\n\nAdres: Lindestraat
  123A 2880 Bornem\nSchool: GO! Basisschool De Linde\nTelefoon:\nEmail: li
 en.vanbreedam@bsdelinde.net\n\nDatum: 2025-10-02\nGewenste dag: Donderdag\
 nBegin: 09:30\nEinde: 11:30\n\n\n\nKlas/leerjaar\nAantal Leerlingen\nLeerk
 rachten\n\n\n3e Kleuterklas\n13\n2\n\n\n\nGewenst gebied: 10. Het Breeven\
 nAfspraakpunt:\nParking tennis (via Breevendreef)\n\n\n\n\n\n
CATEGORIES:De Linde,Gids Lieve Willaert,School Wandeling - enkel studenten
 en leerkrachten
END:VEVENT
BEGIN:VTIMEZONE
TZID:Europe/Brussels
X-LIC-LOCATION:Europe/Brussels
BEGIN:DAYLIGHT
DTSTART:20250330T030000
TZOFFSETFROM:+0100
TZOFFSETTO:+0200
TZNAME:CEST
END:DAYLIGHT
END:VTIMEZONE
END:VCALENDAR