BEGIN:VCALENDAR
VERSION:2.0
PRODID:-//wp-events-plugin.com//7.2.3.1//EN
TZID:Europe/Brussels
X-WR-TIMEZONE:Europe/Brussels
BEGIN:VEVENT
UID:702@natuurgidsen-klein-brabant.com
DTSTART;TZID=Europe/Brussels:20240926T093000
DTEND;TZID=Europe/Brussels:20240926T113000
DTSTAMP:20240917T180450Z
URL:https://natuurgidsen-klein-brabant.com/events/herfst-breeven-3/
SUMMARY:Herfst - Breeven
DESCRIPTION:Van: Stevens Lara\nAdres: Lindestraat 123A\nSchool: Basisschool
  De Linde\nTelefoon:\nEmail: lara.stevens@hotmail.com\n\nDatum: 2024-09-2
 6\nGewenste dag:  donderdag\nBegin: 09u30\nEinde: 11u30\n\n\n\nKlas/leerj
 aar\nAantal Leerlingen\nLeerkrachten\n\n\n3A\n26\nLara\n\n\n4A\n21\nAnusch
 ka\n\n\n\nGewenst gebied: 10. Het Breeven\nAfspraakpunt:\nParking tennis (
 via Breevendreef)\n\nGewenst thema: 1. Herfst\n\nAndere info/vragen:\nDe v
 erspreiding van vruchten door dieren + paddenstoelen + die van vlinders\, 
 bijen\, amfibieën in de winter\, lijkt ons erg interessant. (Deze hebben 
 we nog niet gehad)
CATEGORIES:De Linde,Gids Lieve Willaert,Gids Tom Van Bel,School Wandeling
 - enkel studenten en leerkrachten
END:VEVENT
BEGIN:VTIMEZONE
TZID:Europe/Brussels
X-LIC-LOCATION:Europe/Brussels
BEGIN:DAYLIGHT
DTSTART:20240331T030000
TZOFFSETFROM:+0100
TZOFFSETTO:+0200
TZNAME:CEST
END:DAYLIGHT
END:VTIMEZONE
END:VCALENDAR