BEGIN:VCALENDAR
VERSION:2.0
PRODID:-//wp-events-plugin.com//7.2.3.1//EN
TZID:Europe/Brussels
X-WR-TIMEZONE:Europe/Brussels
BEGIN:VEVENT
UID:1004@natuurgidsen-klein-brabant.com
DTSTART;TZID=Europe/Brussels:20260422T090000
DTEND;TZID=Europe/Brussels:20260422T110000
DTSTAMP:20260424T070407Z
URL:https://natuurgidsen-klein-brabant.com/events/graafschap-gidsing-geogi
 ds-cursus/
SUMMARY:Graafschap - gidsing Geogids cursus
DESCRIPTION:
CATEGORIES:Geopark,Gids Lieve Willaert,Privé Activiteit - Op Uitnodiging
END:VEVENT
BEGIN:VTIMEZONE
TZID:Europe/Brussels
X-LIC-LOCATION:Europe/Brussels
BEGIN:DAYLIGHT
DTSTART:20260329T030000
TZOFFSETFROM:+0100
TZOFFSETTO:+0200
TZNAME:CEST
END:DAYLIGHT
END:VTIMEZONE
END:VCALENDAR