BEGIN:VCALENDAR
VERSION:2.0
PRODID:-//wp-events-plugin.com//7.2.3.1//EN
TZID:Europe/Brussels
X-WR-TIMEZONE:Europe/Brussels
BEGIN:VEVENT
UID:457@natuurgidsen-klein-brabant.com
DTSTART;TZID=Europe/Brussels:20230513T090000
DTEND;TZID=Europe/Brussels:20230513T120000
DTSTAMP:20230220T084524Z
URL:https://natuurgidsen-klein-brabant.com/events/excursie-5-natuurverkenn
 er-bushcraft/
SUMMARY:Excursie 5 Natuurverkenner : Bushcraft
DESCRIPTION:
CATEGORIES:Excursie
LOCATION:Kerk Lippelo\, Broekstraat\, Lippelo\, Antwerpen\, 2870\, België
GEO:51.041892;4.261560
X-APPLE-STRUCTURED-LOCATION;VALUE=URI;X-ADDRESS=Broekstraat\, Lippelo\, Ant
 werpen\, 2870\, België;X-APPLE-RADIUS=100;X-TITLE=Kerk Lippelo:geo:51.041
 892,4.261560
END:VEVENT
BEGIN:VTIMEZONE
TZID:Europe/Brussels
X-LIC-LOCATION:Europe/Brussels
BEGIN:DAYLIGHT
DTSTART:20230326T030000
TZOFFSETFROM:+0100
TZOFFSETTO:+0200
TZNAME:CEST
END:DAYLIGHT
END:VTIMEZONE
END:VCALENDAR