BEGIN:VCALENDAR
VERSION:2.0
PRODID:-//wp-events-plugin.com//7.2.3.1//EN
TZID:Europe/Brussels
X-WR-TIMEZONE:Europe/Brussels
BEGIN:VEVENT
UID:455@natuurgidsen-klein-brabant.com
DTSTART;TZID=Europe/Brussels:20230506T090000
DTEND;TZID=Europe/Brussels:20230506T120000
DTSTAMP:20230220T083827Z
URL:https://natuurgidsen-klein-brabant.com/events/excursie-4-natuurverkenn
 er-natuurbeheer-praktijkvoorbeelden/
SUMMARY:Excursie 4 Natuurverkenner : Natuurbeheer praktijkvoorbeelden
DESCRIPTION:
CATEGORIES:Excursie,Kris Tersago
LOCATION:Parking voetbal Branst\, Buizerdlaan 1\, Bornem\, Antwerpen\, 2880
 \, België
GEO:51.077789;4.200572
X-APPLE-STRUCTURED-LOCATION;VALUE=URI;X-ADDRESS=Buizerdlaan 1\, Bornem\, An
 twerpen\, 2880\, België;X-APPLE-RADIUS=100;X-TITLE=Parking voetbal Branst
 :geo:51.077789,4.200572
END:VEVENT
BEGIN:VTIMEZONE
TZID:Europe/Brussels
X-LIC-LOCATION:Europe/Brussels
BEGIN:DAYLIGHT
DTSTART:20230326T030000
TZOFFSETFROM:+0100
TZOFFSETTO:+0200
TZNAME:CEST
END:DAYLIGHT
END:VTIMEZONE
END:VCALENDAR