BEGIN:VCALENDAR
VERSION:2.0
PRODID:-//wp-events-plugin.com//7.2.3.1//EN
TZID:Europe/Brussels
X-WR-TIMEZONE:Europe/Brussels
BEGIN:VEVENT
UID:379@natuurgidsen-klein-brabant.com
DTSTART;TZID=Europe/Brussels:20221012T090000
DTEND;TZID=Europe/Brussels:20221012T113000
DTSTAMP:20220920T191935Z
URL:https://natuurgidsen-klein-brabant.com/events/elfjes-en-kabouters-hof-
 van-coolhem-st-carolusschool/
SUMMARY:Elfjes en kabouters - Hof van Coolhem -St. Carolusschool
DESCRIPTION:Van: Ingrid Lenie\nAdres: Kloosterstraat 1\, 2870 Ruisbroek\nSc
 hool: Sint-Carolus\nTelefoon: 038866476\nEmail: secretariaat@carolusschoo
 l.be\n\nDatum: 2022-10-12\nBegin: 0900\nEinde: 1130\n\n&nbsp\;\n\n\n\nKlas
 /leerjaar\nAantal Leerlingen\nLeerkrachten\n\n\n\n\n\n2 kl\n17\n1\n\n\n\n\
 n\n3 kl\n25\n1\n\n\n\n\n\n\n&nbsp\;\n\nGewenst gebied: 18. Hof van Coolhem
 \nAfspraakpunt:\nIngangspoort\, Coolhemstraat 64\, Kalfort\n\nGewenst them
 a: 5. Kleuterwandeling
CATEGORIES:Gids Cille Blondiau,Gids Sonia De Keyzer,School Wandeling -
 enkel studenten en leerkrachten
END:VEVENT
BEGIN:VTIMEZONE
TZID:Europe/Brussels
X-LIC-LOCATION:Europe/Brussels
BEGIN:DAYLIGHT
DTSTART:20220327T030000
TZOFFSETFROM:+0100
TZOFFSETTO:+0200
TZNAME:CEST
END:DAYLIGHT
END:VTIMEZONE
END:VCALENDAR