BEGIN:VCALENDAR
VERSION:2.0
PRODID:-//wp-events-plugin.com//7.2.3.1//EN
TZID:Europe/Brussels
X-WR-TIMEZONE:Europe/Brussels
BEGIN:VEVENT
UID:625@natuurgidsen-klein-brabant.com
DTSTART;TZID=Europe/Brussels:20240602T140000
DTEND;TZID=Europe/Brussels:20240602T160000
DTSTAMP:20240530T193600Z
URL:https://natuurgidsen-klein-brabant.com/events/eetbare-en-nuttige-plant
 en/
SUMMARY:Eetbare en nuttige planten.
DESCRIPTION:Al onze groenten en fruitgewassen zijn van oorsprong wilde plan
 ten. Door eeuwenlange selectie op smaak\, grootte en opbrengst werden somm
 ige soorten meer gebruikt. Door te kruisen werd het bijsturen nog eenvoudi
 ger.\n\nToch is er bij deze ontwikkeling iets verloren gegaan. Van de duiz
 enden eetbare planten worden er nog maar een kleine honderd gewassen aange
 boden in onze winkels. Heel erg pover als je bedenkt dat onze bermen vol s
 taan met planten die we kunnen eten\, denk maar aan: weegbree\, paardenblo
 em\, klaver\, kamille\, veldkers\, kleefkruid\, vogelmuur\, hondsdraf en b
 randnetel.\n\nWil je hier meer over weten\, wandel dan mee:\n\nGids Sonia:
 \n\nDe wandeling is gratis wel inschrijven via de link onderaan\n\nof mai
 l naar info@natuurgidsen-klein-brabant.com\n\n&nbsp\;
ATTACH;FMTTYPE=image/jpeg:https://natuurgidsen-klein-brabant.com/wp-conten
 t/uploads/2024/03/fr-e1710174526741.jpg
CATEGORIES:De Notelaer,Gids Sonia De Keyzer,Open Wandeling - Iedereen
 welkom
LOCATION:De Notelaar\, Notelaerdreef 2\, Bornem\, Antwerpen\, 2880\, Belgi
 ë
GEO:51.11522;4.26274
X-APPLE-STRUCTURED-LOCATION;VALUE=URI;X-ADDRESS=Notelaerdreef 2\, Bornem\, 
 Antwerpen\, 2880\, België;X-APPLE-RADIUS=100;X-TITLE=De Notelaar:geo:51.1
 1522,4.26274
END:VEVENT
BEGIN:VTIMEZONE
TZID:Europe/Brussels
X-LIC-LOCATION:Europe/Brussels
BEGIN:DAYLIGHT
DTSTART:20240331T030000
TZOFFSETFROM:+0100
TZOFFSETTO:+0200
TZNAME:CEST
END:DAYLIGHT
END:VTIMEZONE
END:VCALENDAR