BEGIN:VCALENDAR
VERSION:2.0
PRODID:-//wp-events-plugin.com//7.2.3.1//EN
TZID:Europe/Brussels
X-WR-TIMEZONE:Europe/Brussels
BEGIN:VEVENT
UID:38@natuurgidsen-klein-brabant.com
DTSTART;TZID=Europe/Brussels:20200517T140000
DTEND;TZID=Europe/Brussels:20200517T160000
DTSTAMP:20200410T075203Z
URL:https://natuurgidsen-klein-brabant.com/events/ecotuinendag-wandeling-v
 oor-kinderen/
SUMMARY:** afgelast ** Ecotuinendag: Wandeling voor kinderen
DESCRIPTION:Afgelast wegens coronamaatregelen
CATEGORIES:Afgelast,Gids Lieve Willaert,Open Wandeling - Iedereen welkom
LOCATION:T 9: Bornem Grote Heide Abdij\, Kloosterstraat 18\, Bornem\, Antwe
 rpen\, 2880\, België
GEO:51.096157;4.230567
X-APPLE-STRUCTURED-LOCATION;VALUE=URI;X-ADDRESS=Kloosterstraat 18\, Bornem\
 , Antwerpen\, 2880\, België;X-APPLE-RADIUS=100;X-TITLE=T 9: Bornem Grote 
 Heide Abdij:geo:51.096157,4.230567
END:VEVENT
BEGIN:VTIMEZONE
TZID:Europe/Brussels
X-LIC-LOCATION:Europe/Brussels
BEGIN:DAYLIGHT
DTSTART:20200329T030000
TZOFFSETFROM:+0100
TZOFFSETTO:+0200
TZNAME:CEST
END:DAYLIGHT
END:VTIMEZONE
END:VCALENDAR