BEGIN:VCALENDAR
VERSION:2.0
PRODID:-//wp-events-plugin.com//7.2.3.1//EN
TZID:Europe/Brussels
X-WR-TIMEZONE:Europe/Brussels
BEGIN:VEVENT
UID:1003@natuurgidsen-klein-brabant.com
DTSTART;TZID=Europe/Brussels:20260519T140000
DTEND;TZID=Europe/Brussels:20260519T154000
DTSTAMP:20260424T064637Z
URL:https://natuurgidsen-klein-brabant.com/events/dijken-van-st-amands/
SUMMARY:Dijken van St Amands
DESCRIPTION:Zilveren Passer Waasmunster
CATEGORIES:Gids Frans Hermans,Privé Activiteit - Op Uitnodiging,Zilveren
 passer
END:VEVENT
BEGIN:VTIMEZONE
TZID:Europe/Brussels
X-LIC-LOCATION:Europe/Brussels
BEGIN:DAYLIGHT
DTSTART:20260329T030000
TZOFFSETFROM:+0100
TZOFFSETTO:+0200
TZNAME:CEST
END:DAYLIGHT
END:VTIMEZONE
END:VCALENDAR