BEGIN:VCALENDAR
VERSION:2.0
PRODID:-//wp-events-plugin.com//7.2.3.1//EN
TZID:Europe/Brussels
X-WR-TIMEZONE:Europe/Brussels
BEGIN:VEVENT
UID:176@natuurgidsen-klein-brabant.com
DTSTART;TZID=Europe/Brussels:20210319T103000
DTEND;TZID=Europe/Brussels:20210319T113000
DTSTAMP:20210319T184055Z
URL:https://natuurgidsen-klein-brabant.com/events/dieren-olvi-boom/
SUMMARY:* afgelast *Dieren/ Olvi / Boom
DESCRIPTION:\n\n\nvrijdag\n 19-03\n10u30\n11u30\nkleiputten Terhagen\ninga
 ng: De beukelaer\ndieren\ngidsen  Tom en Lieve\n\n\n
CATEGORIES:Gids Lieve Willaert,Gids Tom Van Bel,School Wandeling - enkel
 studenten en leerkrachten
END:VEVENT
BEGIN:VTIMEZONE
TZID:Europe/Brussels
X-LIC-LOCATION:Europe/Brussels
BEGIN:STANDARD
DTSTART:20201025T020000
TZOFFSETFROM:+0200
TZOFFSETTO:+0100
TZNAME:CET
END:STANDARD
END:VTIMEZONE
END:VCALENDAR