BEGIN:VCALENDAR
VERSION:2.0
PRODID:-//wp-events-plugin.com//7.2.3.1//EN
TZID:Europe/Brussels
X-WR-TIMEZONE:Europe/Brussels
BEGIN:VEVENT
UID:188@natuurgidsen-klein-brabant.com
DTSTART;TZID=Europe/Brussels:20210622T093000
DTEND;TZID=Europe/Brussels:20210622T111500
DTSTAMP:20210619T173618Z
URL:https://natuurgidsen-klein-brabant.com/events/dieren-olvi-boom-2/
SUMMARY:Dieren/ Olvi / Boom
DESCRIPTION:\n\n\ndinsdag\n22-06\n09u\n11u30\nkleiputten Terhagen\ningang: 
 De beukelaer\ndieren: 5de Lj\ngidsen  Tom en Lieve\n\n\n
CATEGORIES:Gids Lieve Willaert,Gids Tom Van Bel,School Wandeling - enkel
 studenten en leerkrachten
END:VEVENT
BEGIN:VTIMEZONE
TZID:Europe/Brussels
X-LIC-LOCATION:Europe/Brussels
BEGIN:DAYLIGHT
DTSTART:20210328T030000
TZOFFSETFROM:+0100
TZOFFSETTO:+0200
TZNAME:CEST
END:DAYLIGHT
END:VTIMEZONE
END:VCALENDAR