BEGIN:VCALENDAR
VERSION:2.0
PRODID:-//wp-events-plugin.com//7.2.3.1//EN
TZID:Europe/Brussels
X-WR-TIMEZONE:Europe/Brussels
BEGIN:VEVENT
UID:256@natuurgidsen-klein-brabant.com
DTSTART;TZID=Europe/Brussels:20211212T140000
DTEND;TZID=Europe/Brussels:20211212T160000
DTSTAMP:20211208T135028Z
URL:https://natuurgidsen-klein-brabant.com/events/dieren-in-de-winter-park
 -kasteel-d-ursel-vlas/
SUMMARY:Dieren in de winter- park kasteel d' Ursel- Vlas
DESCRIPTION:
CATEGORIES:Gids Frans Hermans,Privé Activiteit - Op Uitnodiging
LOCATION:T  4: Domein Hertog D'Ursel\, Kouter & Paddenbroek\, D'ursel\, Bor
 nem\, Antwerpen\, 2880\, België
GEO:51.104728;4.271373
X-APPLE-STRUCTURED-LOCATION;VALUE=URI;X-ADDRESS=D'ursel\, Bornem\, Antwerpe
 n\, 2880\, België;X-APPLE-RADIUS=100;X-TITLE=T  4: Domein Hertog D'Ursel\
 , Kouter & Paddenbroek:geo:51.104728,4.271373
END:VEVENT
BEGIN:VTIMEZONE
TZID:Europe/Brussels
X-LIC-LOCATION:Europe/Brussels
BEGIN:STANDARD
DTSTART:20211031T020000
TZOFFSETFROM:+0200
TZOFFSETTO:+0100
TZNAME:CET
END:STANDARD
END:VTIMEZONE
END:VCALENDAR