BEGIN:VCALENDAR
VERSION:2.0
PRODID:-//wp-events-plugin.com//7.2.3.1//EN
TZID:Europe/Brussels
X-WR-TIMEZONE:Europe/Brussels
BEGIN:VEVENT
UID:560@natuurgidsen-klein-brabant.com
DTSTART;TZID=Europe/Brussels:20231027T090000
DTEND;TZID=Europe/Brussels:20231027T110000
DTSTAMP:20230915T123026Z
URL:https://natuurgidsen-klein-brabant.com/events/de-herfst-hof-van-coolhe
 m/
SUMMARY:De Herfst - Hof van Coolhem
DESCRIPTION:vruchten\, blaadejs\,paddenstoelen\, winterslaap/winterrust...
 .\n\n2 x 2de Lj
CATEGORIES:De Zonnebloem,Gids Lieve Willaert,Gids Vonny Spiessens,School
 Wandeling - enkel studenten en leerkrachten
END:VEVENT
BEGIN:VTIMEZONE
TZID:Europe/Brussels
X-LIC-LOCATION:Europe/Brussels
BEGIN:DAYLIGHT
DTSTART:20230326T030000
TZOFFSETFROM:+0100
TZOFFSETTO:+0200
TZNAME:CEST
END:DAYLIGHT
END:VTIMEZONE
END:VCALENDAR