BEGIN:VCALENDAR
VERSION:2.0
PRODID:-//wp-events-plugin.com//7.2.3.1//EN
TZID:Europe/Brussels
X-WR-TIMEZONE:Europe/Brussels
BEGIN:VEVENT
UID:134@natuurgidsen-klein-brabant.com
DTSTART;TZID=Europe/Brussels:20201005T093000
DTEND;TZID=Europe/Brussels:20201005T120000
DTSTAMP:20200929T095346Z
URL:https://natuurgidsen-klein-brabant.com/events/de-boom-wandeling-in-het
 -hof-van-coolhem/
SUMMARY:De Boom: wandeling in het hof van Coolhem
DESCRIPTION:\n\n\nma\n5-okt.\n9.30\nhof van coolhem\nde regenboom/Kalfort/H
 eidi\n2x kleuters\nde boom\n\n\ncille/vonny+sonia mee\n\n\n\n\n\nBevestigd
 \n\n\n\n
CATEGORIES:Gids Cille Blondiau,Gids Sonia De Keyzer,Gids Vonny
 Spiessens,School Wandeling - enkel studenten en leerkrachten
LOCATION:T14: Hof van Coolhem\, Coolhemdreef\, Puurs\, Antwerpen\, 2880\, B
 elgië
GEO:51.073172;4.306084
X-APPLE-STRUCTURED-LOCATION;VALUE=URI;X-ADDRESS=Coolhemdreef\, Puurs\, Antw
 erpen\, 2880\, België;X-APPLE-RADIUS=100;X-TITLE=T14: Hof van Coolhem:geo
 :51.073172,4.306084
END:VEVENT
BEGIN:VTIMEZONE
TZID:Europe/Brussels
X-LIC-LOCATION:Europe/Brussels
BEGIN:DAYLIGHT
DTSTART:20200329T030000
TZOFFSETFROM:+0100
TZOFFSETTO:+0200
TZNAME:CEST
END:DAYLIGHT
END:VTIMEZONE
END:VCALENDAR