BEGIN:VCALENDAR
VERSION:2.0
PRODID:-//wp-events-plugin.com//7.2.3.1//EN
TZID:Europe/Brussels
X-WR-TIMEZONE:Europe/Brussels
BEGIN:VEVENT
UID:1001@natuurgidsen-klein-brabant.com
DTSTART;TZID=Europe/Brussels:20270519T193000
DTEND;TZID=Europe/Brussels:20270519T220000
DTSTAMP:20260420T175121Z
URL:https://natuurgidsen-klein-brabant.com/events/cursus-verhalen-over-pla
 nten/
SUMMARY:Cursus: Verhalen over planten
DESCRIPTION:Lesgever Hans Vermeulen\n\nTwee lessen in de Krodde ( gebouw ac
 hteraan de kinderboerderij ) Barelstraat 63 Bornem\n\nop woensdag  19 mei
   en 26 mei van 9u30 tot 22u\n\nTwee excursies: \n\na)  De Notelaer  ( 
 Notelaerdreef 2 Hingene) vertrek aan de toegangspoort\n\nop zaterdag 29 me
 i van 9u30 tot12u30\n\nb)  Hof ter Zielbeek  ( Sint Katharinastraat 195 
 Puurs-Sint-Amands )\n\nop zaterdag 5 juni van 9u30 tot 12u30\n\nKostprijs 
 : 50 euro  voor niet leden                               
                                                  
                                                  
                                                  
             40 euro voor leden\n\nBetalen via overschrijving op reke
 ningnr. NGKB    BE85 9731 3020 0306
CATEGORIES:cursus,Hans Vermeulen
LOCATION:De Krodde\, Barelstraat 183\, Bornem\, 2880\, België
GEO:51.087979;4.233475
X-APPLE-STRUCTURED-LOCATION;VALUE=URI;X-ADDRESS=Barelstraat 183\, Bornem\, 
 2880\, België;X-APPLE-RADIUS=100;X-TITLE=De Krodde:geo:51.087979,4.233475
END:VEVENT
BEGIN:VTIMEZONE
TZID:Europe/Brussels
X-LIC-LOCATION:Europe/Brussels
BEGIN:DAYLIGHT
DTSTART:20270328T030000
TZOFFSETFROM:+0100
TZOFFSETTO:+0200
TZNAME:CEST
END:DAYLIGHT
END:VTIMEZONE
END:VCALENDAR