BEGIN:VCALENDAR
VERSION:2.0
PRODID:-//wp-events-plugin.com//7.2.3.1//EN
TZID:Europe/Brussels
X-WR-TIMEZONE:Europe/Brussels
BEGIN:VEVENT
UID:339@natuurgidsen-klein-brabant.com
DTSTART;TZID=Europe/Brussels:20221112T093000
DTEND;TZID=Europe/Brussels:20221112T120000
DTSTAMP:20220819T040317Z
URL:https://natuurgidsen-klein-brabant.com/events/cursus-paddenstoelen-voo
 r-gevorderden-les-2/
SUMMARY:Cursus paddenstoelen voor gevorderden:  les 2
DESCRIPTION:afspraakplaats:  Hof van Coolhem: Ingang Coolhemstraat 64\, 2
 870 Kalfort (Puurs- Sint - Amands)\n\n&nbsp\;
CATEGORIES:Wim Veraghtert
END:VEVENT
BEGIN:VTIMEZONE
TZID:Europe/Brussels
X-LIC-LOCATION:Europe/Brussels
BEGIN:STANDARD
DTSTART:20221030T020000
TZOFFSETFROM:+0200
TZOFFSETTO:+0100
TZNAME:CET
END:STANDARD
END:VTIMEZONE
END:VCALENDAR