BEGIN:VCALENDAR
VERSION:2.0
PRODID:-//wp-events-plugin.com//7.2.3.1//EN
TZID:Europe/Brussels
X-WR-TIMEZONE:Europe/Brussels
BEGIN:VEVENT
UID:245@natuurgidsen-klein-brabant.com
DTSTART;TZID=Europe/Brussels:20220428T133000
DTEND;TZID=Europe/Brussels:20220428T150000
DTSTAMP:20220119T102903Z
URL:https://natuurgidsen-klein-brabant.com/events/bloemen-en-bijtjes-marie
 kerke-de-kinderplaneet/
SUMMARY:Bloemen en bijtjes - Mariekerke - De kinderplaneet
DESCRIPTION:\n\n\nlas/leerjaar\nAantal Leerlingen\nLeerkrachten\n\n\n\n\n\n
 1K\n+-25\njuf Elke\n\n\n\n\n\n2K\n14\njuf Ann\n\n\n\n\n\n3K\n17\njuf Yaël
 le\n\n\n\n\n\n\n\n\n\n\nWandeling in de omgeving van de school
CATEGORIES:Gids Lieve Willaert,Gids Sonia De Keyzer,School Wandeling -
 enkel studenten en leerkrachten
END:VEVENT
BEGIN:VTIMEZONE
TZID:Europe/Brussels
X-LIC-LOCATION:Europe/Brussels
BEGIN:DAYLIGHT
DTSTART:20220327T030000
TZOFFSETFROM:+0100
TZOFFSETTO:+0200
TZNAME:CEST
END:DAYLIGHT
END:VTIMEZONE
END:VCALENDAR