BEGIN:VCALENDAR
VERSION:2.0
PRODID:-//wp-events-plugin.com//7.2.3.1//EN
TZID:Europe/Brussels
X-WR-TIMEZONE:Europe/Brussels
BEGIN:VEVENT
UID:638@natuurgidsen-klein-brabant.com
DTSTART;TZID=Europe/Brussels:20240529T140000
DTEND;TZID=Europe/Brussels:20240529T160000
DTSTAMP:20240502T211144Z
URL:https://natuurgidsen-klein-brabant.com/events/bijenwandeling-voor-kind
 eren-hof-van-coolhem/
SUMMARY:Bijenwandeling voor kinderen - Hof van Coolhem
DESCRIPTION:Woensdag 29 mei\, 14u\n\nHey daar\, jonge ontdekkingsreizigers!
  🐝 Ben je klaar om een avontuur te beleven dat zoemt van opwinding en k
 ennis? Schrijf je dan in voor onze bijenwandeling in het betoverende Hof v
 an Coolhem! Hier ontdek je alles wat je wilt weten over onze harde werkend
 e vrienden\, de bijen.\n\nWist je dat bijen superhelden zijn in de natuur?
  Ze helpen bloemen te bestuiven en zorgen ervoor dat planten kunnen groeie
 n en ons voedsel produceren. Tijdens onze wandeling leer je hoe bijen leve
 n\, hoe ze hun nesten bouwen en kom je coole weetjes te weten die je vrien
 den versteld zullen doen staan!\n\nMaar dat is nog niet alles! Je krijgt o
 ok de kans om te zien hoe belangrijk bijen zijn voor ons milieu en hoe we 
 hen kunnen helpen beschermen. Samen kunnen we een verschil maken en ervoor
  zorgen dat bijen altijd een veilige en gezonde plek hebben om te leven.\n
 \nDus\, pak je avonturenhoed en doe mee aan onze bijenwandeling! Het wordt
  een geweldige reis vol ontdekkingen en plezier. Schrijf je snel in en wor
 d een echte bijenexpert! 🌼🐝\nOrganisatie: Gemeente Puurs-Sint-Amands
  i.s.m. Natuurgidsen Klein-Brabant\nDe wandeling is gratis\nInschrijven vi
 a de link helemaal onderaan\nGids: Tom en Vonny\nwww.uitinpuurssintamands.
 be\n\n\n\n
CATEGORIES:Gids Tom Van Bel,Gids Vonny Spiessens,Open Wandeling - Iedereen
 welkom
END:VEVENT
BEGIN:VTIMEZONE
TZID:Europe/Brussels
X-LIC-LOCATION:Europe/Brussels
BEGIN:DAYLIGHT
DTSTART:20240331T030000
TZOFFSETFROM:+0100
TZOFFSETTO:+0200
TZNAME:CEST
END:DAYLIGHT
END:VTIMEZONE
END:VCALENDAR