BEGIN:VCALENDAR
VERSION:2.0
PRODID:-//wp-events-plugin.com//7.2.3.1//EN
TZID:Europe/Brussels
X-WR-TIMEZONE:Europe/Brussels
BEGIN:VEVENT
UID:283@natuurgidsen-klein-brabant.com
DTSTART;TZID=Europe/Brussels:20220617T131500
DTEND;TZID=Europe/Brussels:20220617T150000
DTSTAMP:20220521T042740Z
URL:https://natuurgidsen-klein-brabant.com/events/bijen-st-bernardusschool
 -kinderboerderij/
SUMMARY:Bijen - St Bernardusschool - Kinderboerderij
DESCRIPTION:Van: Marie Hermans\nAdres: Sint-Amandsesteenweg 256\, Bornem\nS
 chool: Sint-Bernardus\nTelefoon:\n\nEmail: marie.hermans@bernardusschool.
 be\n\nDatum: 2022-06-17\nBegin: 13:15 à 13u30\nEinde: 15u\n\n&nbsp\;\n\n\
 n\nKlas/leerjaar\nAantal Leerlingen\nLeerkrachten\n\n\n\n\n\n2A\n13\nMarie
 \n\n\n\n\n\n2A\n14\nMarie\n\n\n\n\n\n\n&nbsp\;\n\nGewenst gebied: 11. De k
 inderboerderij\nAfspraakpunt:\nIngangspoort Kinderboerderij\, Barelstraat 
 183\, Bornem\n\nGewenst thema: 4. Bijen\n\nAndere info/vragen:\nOok de and
 ere dieren in de kinderboerderij mogen aan bod komen.
CATEGORIES:Gids Lieve Willaert,Gids Vonny Spiessens,School Wandeling -
 enkel studenten en leerkrachten
END:VEVENT
BEGIN:VTIMEZONE
TZID:Europe/Brussels
X-LIC-LOCATION:Europe/Brussels
BEGIN:DAYLIGHT
DTSTART:20220327T030000
TZOFFSETFROM:+0100
TZOFFSETTO:+0200
TZNAME:CEST
END:DAYLIGHT
END:VTIMEZONE
END:VCALENDAR