BEGIN:VCALENDAR
VERSION:2.0
PRODID:-//wp-events-plugin.com//7.2.3.1//EN
TZID:Europe/Brussels
X-WR-TIMEZONE:Europe/Brussels
BEGIN:VEVENT
UID:229@natuurgidsen-klein-brabant.com
DTSTART;TZID=Europe/Brussels:20220505T090000
DTEND;TZID=Europe/Brussels:20220505T113000
DTSTAMP:20220311T095027Z
URL:https://natuurgidsen-klein-brabant.com/events/bijen-sjabi-kinderboerde
 rij/
SUMMARY:Bijen  - Kinderboerderij - Sjabi
DESCRIPTION:4 de Leerjaar Juf Ann en juf Kim\n\nSolitaire bijen\, Honingbij
 en\, De imker\, Plantenbestuiving
CATEGORIES:Afgelast,Gids Lieve Willaert,Gids Sonia De Keyzer,School
 Wandeling - enkel studenten en leerkrachten
END:VEVENT
BEGIN:VTIMEZONE
TZID:Europe/Brussels
X-LIC-LOCATION:Europe/Brussels
BEGIN:DAYLIGHT
DTSTART:20220327T030000
TZOFFSETFROM:+0100
TZOFFSETTO:+0200
TZNAME:CEST
END:DAYLIGHT
END:VTIMEZONE
END:VCALENDAR