BEGIN:VCALENDAR
VERSION:2.0
PRODID:-//wp-events-plugin.com//7.2.3.1//EN
TZID:Europe/Brussels
X-WR-TIMEZONE:Europe/Brussels
BEGIN:VEVENT
UID:429@natuurgidsen-klein-brabant.com
DTSTART;TZID=Europe/Brussels:20230425T100000
DTEND;TZID=Europe/Brussels:20230425T120000
DTSTAMP:20230209T154858Z
URL:https://natuurgidsen-klein-brabant.com/events/bijen-kinderboerderij/
SUMMARY:Bijen - Kinderboerderij
DESCRIPTION:Van: Greet Hermans\nAdres: Jan Hammeneckerstraat – Mariekerke
 \nSchool: De kinderplaneet\nTelefoon:\nEmail: greet.hermans@kinderplaneet
 .eu\n\nDatum: 2023-04-25\nBegin: 10:00\nEinde: 12:00\n\n\n\nKlas/leerjaar\
 nAantal Leerlingen\nLeerkrachten\n\n\n3\n19\nGreet Hermans\n\n\n4\n17\nMan
 us Kenens\n\n\n\nGewenst gebied: 11. De kinderboerderij\nAfspraakpunt:\nIn
 gangspoort Kinderboerderij\, Barelstraat 183\, Bornem\n\nGewenst thema: 4.
  Bijen
CATEGORIES:De Kinderplaneet,Gids Lieve Willaert,Gids Vonny
 Spiessens,School Wandeling - enkel studenten en leerkrachten
LOCATION:De Kinderboerderij Barelhoeve\, Barelstraat 183\, Bornem\, 2880\, 
 België
GEO:51.087979;4.233475
X-APPLE-STRUCTURED-LOCATION;VALUE=URI;X-ADDRESS=Barelstraat 183\, Bornem\, 
 2880\, België;X-APPLE-RADIUS=100;X-TITLE=De Kinderboerderij Barelhoeve:ge
 o:51.087979,4.233475
END:VEVENT
BEGIN:VTIMEZONE
TZID:Europe/Brussels
X-LIC-LOCATION:Europe/Brussels
BEGIN:DAYLIGHT
DTSTART:20230326T030000
TZOFFSETFROM:+0100
TZOFFSETTO:+0200
TZNAME:CEST
END:DAYLIGHT
END:VTIMEZONE
END:VCALENDAR