BEGIN:VCALENDAR
VERSION:2.0
PRODID:-//wp-events-plugin.com//7.2.3.1//EN
TZID:Europe/Brussels
X-WR-TIMEZONE:Europe/Brussels
BEGIN:VEVENT
UID:189@natuurgidsen-klein-brabant.com
DTSTART;TZID=Europe/Brussels:20210628T160000
DTEND;TZID=Europe/Brussels:20210628T183000
DTSTAMP:20210528T202946Z
URL:https://natuurgidsen-klein-brabant.com/events/bijen-biodiversiteit-voe
 dselweb-olvp-abdij-kibo-breeven/
SUMMARY:Bijen - biodiversiteit- voedselweb/ Olvp / Abdij- Kibo- Breeven
DESCRIPTION:\n\n\nmaandag\n 28-06\n16u\n18u30\nolvp - 6de LJ\nabdij- bijen
 hal- breeven\nbijen- biodiversiteit- voedselweb\ngidsen Cille\, Tom en Lie
 ve\n\n\n
CATEGORIES:Gids Cille Blondiau,Gids Lieve Willaert,Gids Tom Van Bel,School
 Wandeling - enkel studenten en leerkrachten
END:VEVENT
BEGIN:VTIMEZONE
TZID:Europe/Brussels
X-LIC-LOCATION:Europe/Brussels
BEGIN:DAYLIGHT
DTSTART:20210328T030000
TZOFFSETFROM:+0100
TZOFFSETTO:+0200
TZNAME:CEST
END:DAYLIGHT
END:VTIMEZONE
END:VCALENDAR