BEGIN:VCALENDAR
VERSION:2.0
PRODID:-//wp-events-plugin.com//7.2.3.1//EN
TZID:Europe/Brussels
X-WR-TIMEZONE:Europe/Brussels
BEGIN:VEVENT
UID:529@natuurgidsen-klein-brabant.com
DTSTART;TZID=Europe/Brussels:20231012T133000
DTEND;TZID=Europe/Brussels:20231012T153000
DTSTAMP:20230901T151810Z
URL:https://natuurgidsen-klein-brabant.com/events/actief-natuurleerpad-sja
 bi-1ste-middelbaar-hof-van-coolhem-11/
SUMMARY:Actief Natuurleerpad Sjabi 1ste middelbaar Hof van Coolhem
DESCRIPTION:
CATEGORIES:Gids Lieve Willaert,Gids Rudi Van Duyse,School Wandeling -
 enkel studenten en leerkrachten
END:VEVENT
BEGIN:VTIMEZONE
TZID:Europe/Brussels
X-LIC-LOCATION:Europe/Brussels
BEGIN:DAYLIGHT
DTSTART:20230326T030000
TZOFFSETFROM:+0100
TZOFFSETTO:+0200
TZNAME:CEST
END:DAYLIGHT
END:VTIMEZONE
END:VCALENDAR