BEGIN:VCALENDAR
VERSION:2.0
PRODID:-//wp-events-plugin.com//7.2.3.1//EN
TZID:Europe/Brussels
X-WR-TIMEZONE:Europe/Brussels
BEGIN:VEVENT
UID:660@natuurgidsen-klein-brabant.com
DTSTART;TZID=Europe/Brussels:20241018T094500
DTEND;TZID=Europe/Brussels:20241018T114500
DTSTAMP:20241007T082405Z
URL:https://natuurgidsen-klein-brabant.com/events/actief-natuurleerpad-hof
 -van-coolhem-8/
SUMMARY:Actief Natuurleerpad - Hof van Coolhem
DESCRIPTION:
CATEGORIES:Gids Rudi Van Duyse,Gids Vonny Spiessens,School Wandeling -
 enkel studenten en leerkrachten,Sjabi 1ste middelbaar
END:VEVENT
BEGIN:VTIMEZONE
TZID:Europe/Brussels
X-LIC-LOCATION:Europe/Brussels
BEGIN:DAYLIGHT
DTSTART:20240331T030000
TZOFFSETFROM:+0100
TZOFFSETTO:+0200
TZNAME:CEST
END:DAYLIGHT
END:VTIMEZONE
END:VCALENDAR